Workbook

Sheet START
B2: WERYFIKACJA NAJLEPSZYCH PRAKTYK DLA ALTERNATYWNYCH SIECI ŻYWNOŚCIOWYCH (AFN)
B3: Food4CE to europejski projekt finansowany z programu INTERREG Europa Środkowa, którego celem jest wspieranie Alternatywnych Sieci Żywnościowych (AFN) w ich dążeniach do tworzenia zrównoważonych i odpornych systemów zaopatrzenia w żywność. Alternatywne Sieci Żywnościowe (AFN) odgrywają kluczową rolę w łączeniu lokalnych producentów żywności, konsumentów i kluczowych interesariuszy, takich jak dystrybutorzy i dostawcy usług logistycznych, stanowiąc siłę napędową Krótkich Łańcuchów Dostaw Żywności (SFSC). W ramach projektu zdefiniowano i opisano kryteria najlepszych praktyk. Opracowano również narzędzie Excel, które pomoże Ci ocenić i porównać swoje AFN z innymi. Narzędzie Excel oferuje następujące opcje: * WERYFIKACJA jednej lub więcej AFN w oparciu o kryteria najlepszych praktyk * OCENA z pogłębioną analizą każdego kryterium najlepszych praktyk * MODEL BIZNESOWY z dalszymi instrukcjami dotyczącymi definiowania kluczowych komponentów Instrukcje dotyczące korzystania z narzędzia znajdziesz w odpowiednich sekcjach.

Sheet NAJLEPSZE PRAKTYKI
B2: SZCZEGÓŁOWE KRYTERIA NAJLEPSZYCH PRAKTYK DLA AFN

Sheet WERYFIKACJA
A1: WERYFIKACJA NAJLEPSZYCH PRAKTYK AFN
A2: Sprawdź, czy Twój AFN spełnia najlepsze praktyki i porównaj go z innymi!
A4: NAZWA AFN | B4: ZAAWANSOWANA LOGISTYKA | C4: CYFRYZACJA | D4: LOKALNOŚĆ | E4: ZRÓWNOWAŻENIE | F4: TRANSPARENTNOŚĆ | G4: ŚREDNIO
G5: =SUM(B5:F5)/5 -> 0 | H5: =IF(G5>=3,"This is a best practice!",) -> 0
G6: =SUM(B6:F6)/5 -> 0 | H6: =IF(G6>=3,"This is a best practice!",) -> 0
G7: =SUM(B7:F7)/5 -> 0 | H7: =IF(G7>=3,"This is a best practice!",) -> 0
G8: =SUM(B8:F8)/5 -> 0 | H8: =IF(G8>=3,"This is a best practice!",) -> 0
G9: =SUM(B9:F9)/5 -> 0 | H9: =IF(G9>=3,"This is a best practice!",) -> 0
G10: =SUM(B10:F10)/5 -> 0 | H10: =IF(G10>=3,"This is a best practice!",) -> 0
G11: =SUM(B11:F11)/5 -> 0 | H11: =IF(G11>=3,"This is a best practice!",) -> 0
G12: =SUM(B12:F12)/5 -> 0 | H12: =IF(G12>=3,"This is a best practice!",) -> 0
G13: =SUM(B13:F13)/5 -> 0 | H13: =IF(G13>=3,"This is a best practice!",) -> 0
G14: =SUM(B14:F14)/5 -> 0 | H14: =IF(G14>=3,"This is a best practice!",) -> 0
G15: =SUM(B15:F15)/5 -> 0 | H15: =IF(G15>=3,"This is a best practice!",) -> 0
G16: =SUM(B16:F16)/5 -> 0 | H16: =IF(G16>=3,"This is a best practice!",) -> 0
A18: INSTRUKCJA | I18: INTERPRETACJA
A20: 1) Proszę uważnie przeczytać kryteria najlepszych praktyk na slajdzie NAJLEPSZE PRAKTYKI. | I20: Dla pojedynczego AFN:
A21: 2) W kolumnie A, zaczynając od komórki A5, wpisz nazwę(-y) AFN, które chcesz ocenić. | I21: 1) Które kryterium jest najlepsze/najsłabsze i dlaczego? Jak można poprawić jego wynik? (--> zobacz slajd NAJLEPSZE PRAKTYKI)
A22: 3) Zastanów się, w jakim stopniu AFN spełnia kryteria najlepszych praktyk. | I22: 2) Które kryterium jest kluczowe dla celów mojej firmy/firmy?
A23: 3) Oceń poszczególne AFN, przyznając im punkty:
A24: 0 = w ogóle nie spełnia kryteriów | I24: Dla porównań pomiedzy AFN-ami:
A25: 1 = prawie nie spełnia kryteriów | I25: 1) Jaka jest mocna strona najlepiej ocenianego AFN?
A26: 2 = spełnia kryteria w niewielkim stopniu | I26: 2) Porównaj pojedyncze kryteria w ramach AFN. Które z nich jest najlepsze w ramach danego kryterium i dlaczego?
A27: 3 = spełnia kryteria średnio | I27: Omówcie te tematy między sobą, jeśli to możliwe!
A28: 4 = spełnia kryteria dobrze
A29: 5 = spełnia kryteria całkowicie
A31: Jeśli średnia wszystkich kryteriów wynosi 3 lub więcej, AFN jest Najlepszą Praktyką!

Sheet OCENA
A1: AFN OCENA KRYTERIÓW NAJLEPSZYCH PRAKTYK
A2: Poznaj bliżej kryteria najlepszych praktyk!
B4: Zawansowana logistyka | F4: Cyfryzacja | I4: Lokalność | M4: Zrównoważenie | Q4: Transparentność
B5: Logistyka AFN jest dobrze rozwinięta i zorganizowana. | F5: Kompleksowe informacje w całym łańcuchu dostaw są niezbędne. | I5: Lokalne korzenie i zaangażowanie regionalne są częścią tożsamości. | M5: Kluczowe są aspekty środowiskowe, ekonomiczne i społeczne. | Q5: Otwartość w działaniu buduje zaufanie.
A6: NAZWA AFN | B6: Wybór spośród wielu opcji dostawy | C6: Unikanie pakowania | D6: Konsolidacja | E6: Korzystanie ze schematów pudełek | F6: Przyjazna dla użytkownika strona główna | G6: Płynne zakupy online | H6: Narzędzia śledzenia | I6: Wysoki udział produktów lokalnych | J6: Powiązania z lokalnymi organizacjami | K6: Zaangażowanie społeczne i społecznościowe/wzmocnienie | L6: Uczciwość wobec dostawców i klientów | M6: Skupienie się na rolnictwie ekologicznym i sezonowości | N6: Aspekty środowiskowe w logistyce | O6: Trwałość | P6: Zwiększanie wiedzy i umiejętności, dzielenie się kompetencjami | Q6: Certyfikaty | R6: Możliwość śledzenia produktów | S6: owary importowane: dowód pochodzenia lub warunków produkcji (np. Fairtrade)
A19: tak | B19: =COUNTIFS(B$7:B$18,Aux.table!$A$10,$A$7:$A$18,"<>") -> 0 | C19: =COUNTIFS(C$7:C$18,Aux.table!$A$10,$A$7:$A$18,"<>") -> 0 | D19: =COUNTIFS(D$7:D$18,Aux.table!$A$10,$A$7:$A$18,"<>") -> 0 | E19: =COUNTIFS(E$7:E$18,Aux.table!$A$10,$A$7:$A$18,"<>") -> 0 | F19: =COUNTIFS(F$7:F$18,Aux.table!$A$10,$A$7:$A$18,"<>") -> 0 | G19: =COUNTIFS(G$7:G$18,Aux.table!$A$10,$A$7:$A$18,"<>") -> 0 | H19: =COUNTIFS(H$7:H$18,Aux.table!$A$10,$A$7:$A$18,"<>") -> 0 | I19: =COUNTIFS(I$7:I$18,Aux.table!$A$10,$A$7:$A$18,"<>") -> 0 | ... S19: =COUNTIFS(S$7:S$18,Aux.table!$A$10,$A$7:$A$18,"<>") -> 0
A20: nie | B20: =COUNTIFS(B$7:B$18,Aux.table!$A$11,$A$7:$A$18,"<>") -> 0 | C20: =COUNTIFS(C$7:C$18,Aux.table!$A$11,$A$7:$A$18,"<>") -> 0 | D20: =COUNTIFS(D$7:D$18,Aux.table!$A$11,$A$7:$A$18,"<>") -> 0 | E20: =COUNTIFS(E$7:E$18,Aux.table!$A$11,$A$7:$A$18,"<>") -> 0 | F20: =COUNTIFS(F$7:F$18,Aux.table!$A$11,$A$7:$A$18,"<>") -> 0 | G20: =COUNTIFS(G$7:G$18,Aux.table!$A$11,$A$7:$A$18,"<>") -> 0 | H20: =COUNTIFS(H$7:H$18,Aux.table!$A$11,$A$7:$A$18,"<>") -> 0 | I20: =COUNTIFS(I$7:I$18,Aux.table!$A$11,$A$7:$A$18,"<>") -> 0 | ... S20: =COUNTIFS(S$7:S$18,Aux.table!$A$11,$A$7:$A$18,"<>") -> 0
A35: INSTRUKCJA | I35: UŻYTKOWANIE
A36: 1) W kolumnie A, zaczynając od komórki A7, wpisz nazwę(-y) AFN, które chcesz uwzględnić. | I36: 1) Sprawdź, jak szeroko stosowane są elementy najlepszych praktyk AFN w Twojej sieci AFN lub w grupie sieci AFN
A37: 2) Przeczytaj charakterystykę kryteriów. | I37: 2) Dowiedz się o innych opcjach, które możesz rozważyć, rozwijając swoją firmę
A38: 3) Wpisz „t” dla odpowiedzi „tak” lub „n”, aby ocenić, czy AFN posiada daną cechę.
A39: 4) Uzupełnij wiersz, w przeciwnym razie wynik będzie niekompletny.

Sheet  MODEL BIZNESOWY
B1: OPIS MODELU BIZNESOWEGO (CANVAS)
B2: Przedstaw swój AFN na jednej stronie i dowiedz się więcej o swojej firmie!
B4: KLUCZOWE PARTNERSTWA | C4: KLUCZOWE DZIAŁANIA | D4: PROPOZYCJA WARTOŚCI | F4: RELACJE Z KLIENTAMI | G4: SEGMENTY KLIENTÓW
C6: KLUCZOWE ZASOBY | F6: KANAŁY DYSTRYBUCJI
B8: STRUKTURA KOSZTÓW | E8: STRUMIENIE DOCHODÓW
B11: INSTRUKCJA
B12: 1) Przejdź do slajdu: Instrukcja Canvas i dowiedz się, jak korzystać z tej strony

Sheet INSTRUKCJA MODEL BIZNESOWY
B1: OPIS MODELU BIZNESOWEGO (CANVAS)
B2: Przedstaw i podsumuj swój AFN na jednej stronie i dowiedz się więcej o swojej firmie!
B3: INSTRUKCJA:
B4: KLUCZOWE PARTNERSTWA | C4: KLUCZOWE DZIAŁANIA | D4: PROPOZYCJA WARTOŚCI | F4: RELACJE Z KLIENTAMI | G4: SEGMENTY KLIENTÓW
B5: Zidentyfikuj swoich partnerów, np. dostawcę: Jakie kluczowe zasoby od nich otrzymujesz? Jak się komunikujesz? Jak wymieniasz towary? Jaka jest ich motywacja? | C5: Jakie kluczowe działania są niezbędne do realizacji Twojej propozycji wartości? Pomyśl o magazynowaniu, transporcie itp. | D5: Jaką wartość wnosimy do klienta? Jakie wymagania mają nasi klienci i jak je spełniamy? Jakie potrzeby klientów zaspokajamy? Co nas wyróżnia? Jakie produkty i usługi oferujemy (w podziale na segmenty klientów)? | F5: What kind of relationship do our customer (per customer segment) expect from us? | G5: Who are you creating value for? Who are our most important customers? How are they like and what do they appreciate? Are they business or private?
C6: KLUCZOWE ZASOBY | F6: KANAŁY DYSTRYBUCJI
C7: Jakie są kluczowe zasoby potrzebne do realizacji kluczowych działań / realizacji propozycji wartości? Pomyślmy przecież o pracownikach i sieciach, ale także o infrastrukturze i sprzęcie (transportowym). | F7: Jak docieramy do naszych klientów dzisiaj? Czy nasi klienci chcą być w ten sposób docierani? Czy stać nas na to, co robimy? Jak działa łańcuch dostaw?
B8: STRUKTURA KOSZTÓW | E8: STRUMIENIE DOCHODÓW
B9: Które koszty są najważniejsze, które kluczowe działania i zasoby są najdroższe? | E9: Jakie koszty płacą klienci dzisiaj, a które są niezapłacone? Czy inne formy płatności (np. systemy subskrypcyjne) mogą odnieść sukces?
B11: INSTRUKCJA | F11: UŻYTKOWANIE
B12: Niniejsza instrukcja pokazuje, jak wypełnić formularz „MODEL BIZNESOWY”. Możesz to zrobić na | F12: 1) Twój AFN jest prezentowany na jednej stronie
B13: komputerze lub wydrukować formularz na papierze i wypełnić go samodzielnie lub wydrukować plakat | F13: 2) Zyskujesz (ujednolicone) zrozumienie znaczenia poszczególnych komponentów swojego AFN
B14: (lub narysować obszary na plakacie) i opracować odpowiedzi z zespołem (np. za pomocą karteczek samoprzylepnych). | F14: 3) Możesz go wykorzystać do omówienia swojego modelu biznesowego.
B16: 1) Pomyśl o swoim AFN i odpowiedz na pytania, które znajdziesz w poszczególnych sekcjach, korzystając z formularza „MODEL BIZNESOWY”.
B17: 2) Napisz krótko i zwięźle, aby uzyskać dobry przegląd.

Sheet Aux.table
A1: RATING
A2: 0
A3: 1
A4: 2
A5: 3
A6: 4
A7: 5
A9: YES / NO
A10: y
A11: n
